BEGIN:VCALENDAR
VERSION:2.0
PRODID:-//Tukios.com/
BEGIN:VEVENT
UID:995059f6-4466-473d-b189-edf690f07d4f@www.arnettsteele.com
DTSTAMP:20260423T023601Z
DTSTART:20260425T150000Z
DTEND:20260425T160000Z
SUMMARY:Graveside Service
DESCRIPTION:We will meet at 10:15 AM Saturday morning at the Arnett & 
	Steele Funeral Home and leave in procession to Pinelawn Memorial Gardens.
URL:https://www.arnettsteele.com/obituaries/phyllis-sanders
LOCATION: Bird Branch Road  Pineville KY 40977
GEO:36.7480807;-83.6531513
END:VEVENT
END:VCALENDAR