BEGIN:VCALENDAR
VERSION:2.0
PRODID:-//Tukios.com/
BEGIN:VEVENT
UID:364e1bbf-dc66-45e8-9c23-3d565f7bddba@www.arnettsteele.com
DTSTAMP:20260423T024240Z
DTSTART:20260424T230000Z
DTEND:20260425T000000Z
SUMMARY:Funeral Service
DESCRIPTION:
URL:https://www.arnettsteele.com/obituaries/phyllis-sanders
LOCATION:Arnett & Steele Funeral Home 106 S Cherry St  Pineville KY 40977
GEO:36.7610288;-83.6936213
END:VEVENT
END:VCALENDAR