BEGIN:VCALENDAR
VERSION:2.0
PRODID:-//Tukios.com/
BEGIN:VEVENT
UID:2dbd4725-5bb8-45f8-9ad7-870f29d12ff4@www.arnettsteele.com
DTSTAMP:20260423T023628Z
DTSTART:20260424T210000Z
DTEND:20260424T230000Z
SUMMARY:Visitation
DESCRIPTION:
URL:https://www.arnettsteele.com/obituaries/phyllis-sanders
LOCATION:Arnett & Steele Funeral Home 106 S Cherry St  Pineville KY 40977
GEO:36.7610288;-83.6936213
END:VEVENT
END:VCALENDAR