BEGIN:VCALENDAR
VERSION:2.0
PRODID:-//Tukios.com/
BEGIN:VEVENT
UID:27863dd6-ee8a-4c80-953b-bc2bbd7563cb@www.arnettsteele.com
DTSTAMP:20260423T000922Z
DTSTART:20260424T190000Z
DTEND:20260424T200000Z
SUMMARY:Funeral Service
DESCRIPTION:
URL:https://www.arnettsteele.com/obituaries/lauren-miracle
LOCATION: 6340 Cumberland Gap Pkwy  Harrogate TN 37752
GEO:36.5634348;-83.6503039
END:VEVENT
END:VCALENDAR