BEGIN:VCALENDAR
VERSION:2.0
PRODID:-//Tukios.com/
BEGIN:VEVENT
UID:790ac283-0898-421f-b9fd-033a5191f156@www.arnettsteele.com
DTSTAMP:20260423T000702Z
DTSTART:20260424T170000Z
DTEND:20260424T190000Z
SUMMARY:Visitation
DESCRIPTION:
URL:https://www.arnettsteele.com/obituaries/lauren-miracle
LOCATION: 6340 Cumberland Gap Pkwy  Harrogate TN 37752
GEO:36.5634348;-83.6503039
END:VEVENT
END:VCALENDAR